BEGIN:VCALENDAR
VERSION:2.0
PRODID:-//wp-events-plugin.com//7.2.3.1//EN
BEGIN:VEVENT
UID:88@gedanken-dizain.de
DTSTART;TZID=Europe/Berlin:20260421T183000
DTEND;TZID=Europe/Berlin:20260421T200000
DTSTAMP:20260329T201820Z
URL:https://gedanken-dizain.de/events/wurzeln-des-erfolgs-5/
SUMMARY:Wurzeln des Erfolgs
DESCRIPTION:Die Wurzeln des ERFOLGES\nWie ein mächtiger Baum wächst jedes
  Projekt aus seinen Wurzeln – der Vergangenheit\, den Glaubenssätzen\, 
 Ressourcen\, Talenten und Fähigkeiten. Diese Elemente nähren den Baum un
 d lassen ihn gedeihen.\n\nDoch wie kannst du diese Wurzeln für dein eigen
 es Wachstum nutzen? Wie kannst du deine Ziele erreichen und deine Wünsche
  erfüllen?\n\nEntdecke jetzt die Geheimnisse des Erfolgs\, um deine Proje
 kte erfolgreich zu gestalten! Buche noch heute deinen Erfolg und starte de
 ine Reise\, um deine Ziele zu erreichen und deine Träume zu verwirklichen
 !
ATTACH;FMTTYPE=image/jpeg:https://i0.wp.com/gedanken-dizain.de/wp-content/
 uploads/2024/10/Wurzeln-des-Erfolgs.jpg?fit=1080%2C720&ssl=1
CATEGORIES:Wurzeln des Erfolgs
LOCATION:Brooks Akademie - gedanken di'zain\, Spitalstraße 37\, Schweinfur
 t\, 97421 \, Deutschland
X-APPLE-STRUCTURED-LOCATION;VALUE=URI;X-ADDRESS=Spitalstraße 37\, Schweinf
 urt\, 97421 \, Deutschland;X-APPLE-RADIUS=100;X-TITLE=Brooks Akademie - ge
 danken di'zain:geo:0,0
END:VEVENT
BEGIN:VTIMEZONE
TZID:Europe/Berlin
X-LIC-LOCATION:Europe/Berlin
BEGIN:DAYLIGHT
DTSTART:20260329T030000
TZOFFSETFROM:+0100
TZOFFSETTO:+0200
TZNAME:CEST
END:DAYLIGHT
END:VTIMEZONE
END:VCALENDAR