BEGIN:VCALENDAR
VERSION:2.0
PRODID:-//wp-events-plugin.com//7.2.3.1//EN
BEGIN:VEVENT
UID:82@gedanken-dizain.de
DTSTART;TZID=Europe/Berlin:20260509T150000
DTEND;TZID=Europe/Berlin:20260509T180000
DTSTAMP:20260320T153620Z
URL:https://gedanken-dizain.de/events/zwei-herzen-ein-bild-2/
SUMMARY:Zwei Herzen. Ein Bild.
DESCRIPTION:Kreativer Mal-Workshop für Paare &amp\; Lieblingsmenschen\n\nM
 anche Erlebnisse spürt man noch lange nach.\nDieser Workshop gehört dazu
 .\nIn diesem kreativen Mal-Workshop für Paare und Lieblingsmenschen ersch
 afft ihr gemeinsam euer eigenes Kunstwerk – intuitiv\, spielerisch und g
 anz ohne Vorkenntnisse. Ihr taucht ein in eine Welt aus Farben\, entdeckt 
 neue Seiten aneinander und verbringt bewusst Zeit miteinander.\nOb als Paa
 r\, Mutter und Tochter\, Vater und Sohn\, Freundinnen oder als besondere G
 eschenkidee – dieses Erlebnis verbindet. Während ihr gemeinsam malt\, e
 ntsteht nicht nur ein Bild\, sondern ein Moment voller Nähe\, Leichtigkei
 t und echter Begegnung.\n\nDas erwartet euch:\nKreatives Malen als Duo\nEi
 n gemeinsames Kunstwerk als Erinnerung\nInspirierende Begleitung Schritt f
 ür Schritt\nRaum für Austausch\, Freude und Verbindung\nEine entspannte\
 , wertschätzende Atmosphäre\nIhr braucht kein Talent nur die Lust\, geme
 insam etwas zu erleben.\n\nLasst den Alltag los\, greift zum Pinsel und er
 lebt\, wie aus einer leeren Leinwand etwas entsteht\, das euch verbindet.
ATTACH;FMTTYPE=image/jpeg:https://i0.wp.com/gedanken-dizain.de/wp-content/
 uploads/2026/02/e70e96f3-0ab9-4acd-9795-1bd9c4edfe22.webp?fit=675%2C900&ss
 l=1
CATEGORIES:Zwei Herzen. Ein Bild
LOCATION:Brooks Akademie - gedanken di'zain\, Spitalstraße 37\, Schweinfur
 t\, 97421 \, Deutschland
X-APPLE-STRUCTURED-LOCATION;VALUE=URI;X-ADDRESS=Spitalstraße 37\, Schweinf
 urt\, 97421 \, Deutschland;X-APPLE-RADIUS=100;X-TITLE=Brooks Akademie - ge
 danken di'zain:geo:0,0
END:VEVENT
BEGIN:VTIMEZONE
TZID:Europe/Berlin
X-LIC-LOCATION:Europe/Berlin
BEGIN:DAYLIGHT
DTSTART:20260329T030000
TZOFFSETFROM:+0100
TZOFFSETTO:+0200
TZNAME:CEST
END:DAYLIGHT
END:VTIMEZONE
END:VCALENDAR